BEGIN:VCALENDAR
VERSION:2.0
PRODID:-//Bad Martha Beer - ECPv6.15.20//NONSGML v1.0//EN
CALSCALE:GREGORIAN
METHOD:PUBLISH
X-WR-CALNAME:Bad Martha Beer
X-ORIGINAL-URL:https://www.badmarthabeer.com
X-WR-CALDESC:Events for Bad Martha Beer
REFRESH-INTERVAL;VALUE=DURATION:PT1H
X-Robots-Tag:noindex
X-PUBLISHED-TTL:PT1H
BEGIN:VTIMEZONE
TZID:America/New_York
BEGIN:DAYLIGHT
TZOFFSETFROM:-0500
TZOFFSETTO:-0400
TZNAME:EDT
DTSTART:20230312T070000
END:DAYLIGHT
BEGIN:STANDARD
TZOFFSETFROM:-0400
TZOFFSETTO:-0500
TZNAME:EST
DTSTART:20231105T060000
END:STANDARD
BEGIN:DAYLIGHT
TZOFFSETFROM:-0500
TZOFFSETTO:-0400
TZNAME:EDT
DTSTART:20240310T070000
END:DAYLIGHT
BEGIN:STANDARD
TZOFFSETFROM:-0400
TZOFFSETTO:-0500
TZNAME:EST
DTSTART:20241103T060000
END:STANDARD
BEGIN:DAYLIGHT
TZOFFSETFROM:-0500
TZOFFSETTO:-0400
TZNAME:EDT
DTSTART:20250309T070000
END:DAYLIGHT
BEGIN:STANDARD
TZOFFSETFROM:-0400
TZOFFSETTO:-0500
TZNAME:EST
DTSTART:20251102T060000
END:STANDARD
END:VTIMEZONE
BEGIN:VEVENT
DTSTART;TZID=America/New_York:20241204T183000
DTEND;TZID=America/New_York:20241204T200000
DTSTAMP:20260421T054932
CREATED:20241126T215917Z
LAST-MODIFIED:20241205T232447Z
UID:10000129-1733337000-1733342400@www.badmarthabeer.com
SUMMARY:Get Bad. Do Good. Charity Bingo
DESCRIPTION:We are excited to announce our next partnership with @communitysystemsinc a local nonprofit organization in Pocasset\, MA. \nThis organization services more than 100+ people right here in the community. This holiday season\, we will have a supersized Get Bad. Do Good Charity Bingo. \nGet Bad. Do Good Bingo Nights:
URL:https://www.badmarthabeer.com/event/get-bad-do-good-charity-bingo/
LOCATION:Bad Martha Beer – East Falmouth
ORGANIZER;CN="Bad Martha Beer":MAILTO:noreply@facebookmail.com
END:VEVENT
BEGIN:VEVENT
DTSTART;TZID=America/New_York:20241207T143000
DTEND;TZID=America/New_York:20241207T163000
DTSTAMP:20260421T054932
CREATED:20241205T225927Z
LAST-MODIFIED:20241207T232501Z
UID:10000140-1733581800-1733589000@www.badmarthabeer.com
SUMMARY:Live Music with Katie Brown
DESCRIPTION:Join us for a good time!
URL:https://www.badmarthabeer.com/event/live-music-with-katie-brown/
LOCATION:876 E Falmouth HWY\, East Falmouth\, MA 02536
END:VEVENT
BEGIN:VEVENT
DTSTART;TZID=America/New_York:20241208T143000
DTEND;TZID=America/New_York:20241208T163000
DTSTAMP:20260421T054932
CREATED:20241205T225922Z
LAST-MODIFIED:20241208T232420Z
UID:10000139-1733668200-1733675400@www.badmarthabeer.com
SUMMARY:Sunday Funday Live Music
DESCRIPTION:Join us for a good time!
URL:https://www.badmarthabeer.com/event/sunday-funday-live-music/
LOCATION:876 E Falmouth HWY\, East Falmouth\, MA 02536
END:VEVENT
BEGIN:VEVENT
DTSTART;TZID=America/New_York:20241211T183000
DTEND;TZID=America/New_York:20241211T200000
DTSTAMP:20260421T054932
CREATED:20241209T185930Z
LAST-MODIFIED:20241212T232610Z
UID:10000157-1733941800-1733947200@www.badmarthabeer.com
SUMMARY:Get Bad. Do Good. Charity Bingo
DESCRIPTION:Join us Wednesday night for Bingo night starting at 6:30 PM!\nCSI and Bad Martha’s are teaming up again this December for a fundraiser. Every Wednesday\, we will host Bingo\, and all donations from the bingo cards will go to CSIMA to help fulfill holiday wishes. There will be plenty of great prizes to win during Bingo! Additionally\, Bad Martha’s features a “Do Good Giving Tree\,” adorned with ornaments representing holiday wishes from each person supported by CSIMA. \nLocation: Bad Martha Beer – East Falmouth
URL:https://www.badmarthabeer.com/event/get-bad-do-good-charity-bingo-2/
LOCATION:Bad Martha Beer – East Falmouth
END:VEVENT
BEGIN:VEVENT
DTSTART;TZID=America/New_York:20241212T180000
DTEND;TZID=America/New_York:20241212T200000
DTSTAMP:20260421T054932
CREATED:20241209T192414Z
LAST-MODIFIED:20241213T232408Z
UID:10000159-1734026400-1734033600@www.badmarthabeer.com
SUMMARY:Paint night
DESCRIPTION:🎉 Get ready for a night of creativity and festive fun! Join us at the brewery on Thursday\, December 12th\, for our exciting paint night in the loft area! Embrace the holiday spirit and create your very own keepsake to take home. 🎨✨  \nSpaces are filling up fast\, so be sure to email Ralph@badmarthabeer to secure your spot! For just $55\, you’ll enjoy delicious food\, a refreshing beverage\, and all the paint supplies you need.  \nDon’t miss out on this unforgettable evening—let’s make some holiday magic together! 🍻🖌️
URL:https://www.badmarthabeer.com/event/paint-night/
LOCATION:Bad Martha Beer – East Falmouth
ORGANIZER;CN="Bad Martha Beer":MAILTO:noreply@facebookmail.com
END:VEVENT
BEGIN:VEVENT
DTSTART;TZID=America/New_York:20241214T143000
DTEND;TZID=America/New_York:20241214T163000
DTSTAMP:20260421T054932
CREATED:20241209T185919Z
LAST-MODIFIED:20241214T232407Z
UID:10000146-1734186600-1734193800@www.badmarthabeer.com
SUMMARY:Live Music with Mike Weidenfeller
DESCRIPTION:Join us for a good time!
URL:https://www.badmarthabeer.com/event/live-music-with-mike-weidenfeller/
LOCATION:Bad Martha Beer – East Falmouth
END:VEVENT
BEGIN:VEVENT
DTSTART;TZID=America/New_York:20241215T143000
DTEND;TZID=America/New_York:20241215T163000
DTSTAMP:20260421T054932
CREATED:20241209T185915Z
LAST-MODIFIED:20241215T232408Z
UID:10000145-1734273000-1734280200@www.badmarthabeer.com
SUMMARY:Live Music with Katie Brown
DESCRIPTION:Join us for some live music!
URL:https://www.badmarthabeer.com/event/live-music-with-katie-brown-2/
LOCATION:Bad Martha Beer – East Falmouth
END:VEVENT
BEGIN:VEVENT
DTSTART;TZID=America/New_York:20241221T140000
DTEND;TZID=America/New_York:20241221T170000
DTSTAMP:20260421T054932
CREATED:20241206T175925Z
LAST-MODIFIED:20241221T232408Z
UID:10000143-1734789600-1734800400@www.badmarthabeer.com
SUMMARY:Apre's Ski Weekend 2025
DESCRIPTION:Join us for a good time!
URL:https://www.badmarthabeer.com/event/apres-ski-weekend-2025/
LOCATION:876 E Falmouth HWY\, East Falmouth\, MA 02536
END:VEVENT
END:VCALENDAR