BEGIN:VCALENDAR
VERSION:2.0
PRODID:-//Bad Martha Beer - ECPv6.15.20//NONSGML v1.0//EN
CALSCALE:GREGORIAN
METHOD:PUBLISH
X-WR-CALNAME:Bad Martha Beer
X-ORIGINAL-URL:https://www.badmarthabeer.com
X-WR-CALDESC:Events for Bad Martha Beer
REFRESH-INTERVAL;VALUE=DURATION:PT1H
X-Robots-Tag:noindex
X-PUBLISHED-TTL:PT1H
BEGIN:VTIMEZONE
TZID:America/New_York
BEGIN:DAYLIGHT
TZOFFSETFROM:-0500
TZOFFSETTO:-0400
TZNAME:EDT
DTSTART:20230312T070000
END:DAYLIGHT
BEGIN:STANDARD
TZOFFSETFROM:-0400
TZOFFSETTO:-0500
TZNAME:EST
DTSTART:20231105T060000
END:STANDARD
BEGIN:DAYLIGHT
TZOFFSETFROM:-0500
TZOFFSETTO:-0400
TZNAME:EDT
DTSTART:20240310T070000
END:DAYLIGHT
BEGIN:STANDARD
TZOFFSETFROM:-0400
TZOFFSETTO:-0500
TZNAME:EST
DTSTART:20241103T060000
END:STANDARD
BEGIN:DAYLIGHT
TZOFFSETFROM:-0500
TZOFFSETTO:-0400
TZNAME:EDT
DTSTART:20250309T070000
END:DAYLIGHT
BEGIN:STANDARD
TZOFFSETFROM:-0400
TZOFFSETTO:-0500
TZNAME:EST
DTSTART:20251102T060000
END:STANDARD
END:VTIMEZONE
BEGIN:VEVENT
DTSTART;TZID=America/New_York:20241116T143000
DTEND;TZID=America/New_York:20241116T163000
DTSTAMP:20260421T055743
CREATED:20241114T210905Z
LAST-MODIFIED:20241118T053137Z
UID:10000122-1731767400-1731774600@www.badmarthabeer.com
SUMMARY:Saturday Live Music with Mike Weidenfeller
DESCRIPTION:Join us for a Fall Saturday at the brewery.
URL:https://www.badmarthabeer.com/event/saturday-live-music-with-mike-weidenfeller/
LOCATION:876 E Falmouth HWY\, East Falmouth\, MA 02536
ORGANIZER;CN="Bad Martha Beer - East Falmouth":MAILTO:noreply@facebookmail.com
END:VEVENT
BEGIN:VEVENT
DTSTART;TZID=America/New_York:20241117T143000
DTEND;TZID=America/New_York:20241117T163000
DTSTAMP:20260421T055743
CREATED:20241114T210900Z
LAST-MODIFIED:20241117T232529Z
UID:10000121-1731853800-1731861000@www.badmarthabeer.com
SUMMARY:Sunday Funday with Bode Corona
DESCRIPTION:Join us for a relaxing Sunday Funday at the brewery!
URL:https://www.badmarthabeer.com/event/sunday-funday-with-bode-corona/
LOCATION:876 E Falmouth HWY\, East Falmouth\, MA 02536
ORGANIZER;CN="Bad Martha Beer - East Falmouth":MAILTO:noreply@facebookmail.com
END:VEVENT
BEGIN:VEVENT
DTSTART;TZID=America/New_York:20241126T160000
DTEND;TZID=America/New_York:20241127T180000
DTSTAMP:20260421T055743
CREATED:20241126T215916Z
LAST-MODIFIED:20241127T232531Z
UID:10000125-1732636800-1732730400@www.badmarthabeer.com
SUMMARY:Eat\, Drink\, Play & Be Thankful
DESCRIPTION:Open Tuesday 4pm to 8 \nWednesday 11:30am to 6pm.
URL:https://www.badmarthabeer.com/event/eat-drink-play-be-thankful/
LOCATION:Online Event\, Online Event
ORGANIZER;CN="Bad Martha Beer":MAILTO:noreply@facebookmail.com
END:VEVENT
BEGIN:VEVENT
DTSTART;TZID=America/New_York:20241127T160000
DTEND;TZID=America/New_York:20241127T173000
DTSTAMP:20260421T055743
CREATED:20241126T215916Z
LAST-MODIFIED:20241127T232531Z
UID:10000126-1732723200-1732728600@www.badmarthabeer.com
SUMMARY:Kickoff night Get Bad. Do Good Charity Bingo
DESCRIPTION:Join us as we kickoff the season of Bingo at the brewery this December!
URL:https://www.badmarthabeer.com/event/kickoff-night-get-bad-do-good-charity-bingo/
LOCATION:Bad Martha Beer – East Falmouth
ORGANIZER;CN="Bad Martha Beer":MAILTO:noreply@facebookmail.com
END:VEVENT
BEGIN:VEVENT
DTSTART;TZID=America/New_York:20241129T183000
DTEND;TZID=America/New_York:20241129T213000
DTSTAMP:20260421T055743
CREATED:20241126T215916Z
LAST-MODIFIED:20241130T232407Z
UID:10000127-1732905000-1732915800@www.badmarthabeer.com
SUMMARY:Black Friday Trivia
DESCRIPTION:Join us for a special trivia night.A Flashback Trivia to your past!
URL:https://www.badmarthabeer.com/event/black-friday-trivia/
LOCATION:Bad Martha Beer – East Falmouth
ORGANIZER;CN="Bad Martha Beer":MAILTO:noreply@facebookmail.com
END:VEVENT
BEGIN:VEVENT
DTSTART;TZID=America/New_York:20241130T140000
DTEND;TZID=America/New_York:20241130T200000
DTSTAMP:20260421T055743
CREATED:20241126T215917Z
LAST-MODIFIED:20241201T232510Z
UID:10000128-1732975200-1732996800@www.badmarthabeer.com
SUMMARY:Mustache Bash
DESCRIPTION:And wait\, there’s more! We’re wrapping up the month with our 5th annual Mustache Bash\, a fun event dedicated to raising awareness about Men’s Health. Mark your calendars and get ready for an unforgettable time! 🦸‍♂️🍕🍻
URL:https://www.badmarthabeer.com/event/mustache-bash/
LOCATION:Bad Martha Beer – East Falmouth
ORGANIZER;CN="Bad Martha Beer":MAILTO:noreply@facebookmail.com
END:VEVENT
END:VCALENDAR