BEGIN:VCALENDAR
VERSION:2.0
PRODID:-//Bad Martha Beer - ECPv6.15.20//NONSGML v1.0//EN
CALSCALE:GREGORIAN
METHOD:PUBLISH
X-ORIGINAL-URL:https://www.badmarthabeer.com
X-WR-CALDESC:Events for Bad Martha Beer
REFRESH-INTERVAL;VALUE=DURATION:PT1H
X-Robots-Tag:noindex
X-PUBLISHED-TTL:PT1H
BEGIN:VTIMEZONE
TZID:America/New_York
BEGIN:DAYLIGHT
TZOFFSETFROM:-0500
TZOFFSETTO:-0400
TZNAME:EDT
DTSTART:20210314T070000
END:DAYLIGHT
BEGIN:STANDARD
TZOFFSETFROM:-0400
TZOFFSETTO:-0500
TZNAME:EST
DTSTART:20211107T060000
END:STANDARD
BEGIN:DAYLIGHT
TZOFFSETFROM:-0500
TZOFFSETTO:-0400
TZNAME:EDT
DTSTART:20220313T070000
END:DAYLIGHT
BEGIN:STANDARD
TZOFFSETFROM:-0400
TZOFFSETTO:-0500
TZNAME:EST
DTSTART:20221106T060000
END:STANDARD
BEGIN:DAYLIGHT
TZOFFSETFROM:-0500
TZOFFSETTO:-0400
TZNAME:EDT
DTSTART:20230312T070000
END:DAYLIGHT
BEGIN:STANDARD
TZOFFSETFROM:-0400
TZOFFSETTO:-0500
TZNAME:EST
DTSTART:20231105T060000
END:STANDARD
END:VTIMEZONE
BEGIN:VEVENT
DTSTART;TZID=America/New_York:20220618T120000
DTEND;TZID=America/New_York:20220619T200000
DTSTAMP:20260421T042353
CREATED:20220418T201854Z
LAST-MODIFIED:20220620T231857Z
UID:10000082-1655553600-1655668800@www.badmarthabeer.com
SUMMARY:Father's Day Weeknd!
DESCRIPTION:Join us to celebrate Father’s Day this weekend! Live Music\, Games\, Raffles\, Giveaways\, and more! \nhttps://www.facebook.com/events/994221874535426/
URL:https://www.badmarthabeer.com/event/fathers-day-weeknd/
LOCATION:Bad Martha Farmer’s Brewery\, 270 Upper Main St\, Edgartown\, MA\, 02539\, US
ATTACH;FMTTYPE=image/jpeg:https://www.badmarthabeer.com/wp-content/uploads/2022/04/779_image_278285656_515503400041840_8663450955869183256_n.jpg
END:VEVENT
BEGIN:VEVENT
DTSTART;TZID=America/New_York:20220619T150000
DTEND;TZID=America/New_York:20220619T180000
DTSTAMP:20260421T042353
CREATED:20220616T171835Z
LAST-MODIFIED:20220619T231834Z
UID:10000107-1655650800-1655661600@www.badmarthabeer.com
SUMMARY:Father's Day at The Bog!
DESCRIPTION:The WayWards\, a new country rock band\, kick off summer at The Bog Tavern on Sunday\, Father’s Day\, from 3 pm to 6. \nBring your dad for good music\, terrific food\, and delicious beverages. \nhttps://www.facebook.com/events/772377057260487/
URL:https://www.badmarthabeer.com/event/fathers-day-at-the-bog/
LOCATION:The Bog Tavern\, 11 Brigadoone Rd\, Bourne\, MA\, 02532\, US
ATTACH;FMTTYPE=image/jpeg:https://www.badmarthabeer.com/wp-content/uploads/2022/06/15761_image_287613832_155265510358731_8192198087196750589_n.jpg
END:VEVENT
END:VCALENDAR